BEGIN:VCALENDAR
VERSION:2.0
PRODID:-//Villa Noël - ECPv6.15.20//NONSGML v1.0//EN
CALSCALE:GREGORIAN
METHOD:PUBLISH
X-WR-CALNAME:Villa Noël
X-ORIGINAL-URL:https://villanoel.unibuc.ro
X-WR-CALDESC:Evenimente pentru Villa Noël
REFRESH-INTERVAL;VALUE=DURATION:PT1H
X-Robots-Tag:noindex
X-PUBLISHED-TTL:PT1H
BEGIN:VTIMEZONE
TZID:Europe/Bucharest
BEGIN:DAYLIGHT
TZOFFSETFROM:+0200
TZOFFSETTO:+0300
TZNAME:EEST
DTSTART:20230326T010000
END:DAYLIGHT
BEGIN:STANDARD
TZOFFSETFROM:+0300
TZOFFSETTO:+0200
TZNAME:EET
DTSTART:20231029T010000
END:STANDARD
BEGIN:DAYLIGHT
TZOFFSETFROM:+0200
TZOFFSETTO:+0300
TZNAME:EEST
DTSTART:20240331T010000
END:DAYLIGHT
BEGIN:STANDARD
TZOFFSETFROM:+0300
TZOFFSETTO:+0200
TZNAME:EET
DTSTART:20241027T010000
END:STANDARD
BEGIN:DAYLIGHT
TZOFFSETFROM:+0200
TZOFFSETTO:+0300
TZNAME:EEST
DTSTART:20250330T010000
END:DAYLIGHT
BEGIN:STANDARD
TZOFFSETFROM:+0300
TZOFFSETTO:+0200
TZNAME:EET
DTSTART:20251026T010000
END:STANDARD
END:VTIMEZONE
BEGIN:VEVENT
DTSTART;TZID=Europe/Bucharest:20240514T170000
DTEND;TZID=Europe/Bucharest:20240514T190000
DTSTAMP:20260422T152535
CREATED:20240509T082715Z
LAST-MODIFIED:20240509T082715Z
UID:5290-1715706000-1715713200@villanoel.unibuc.ro
SUMMARY:Présentation de livre "Projet de Code civil pour la Bessarabie"
DESCRIPTION:Le Collège juridique franco-roumain d’études européennes (Faculté de Droit)\, en partenariat avec le CEREFREA Villa Noël et la Faculté de Sciences Politiques de l’Université de Bucarest organisent la présentation de l’ouvrage Projet de Code civil pour la Bessarabie – Proiect de Cod civil pentru Basarabia qui aura lieu mardi\, le 14 mai 2024\, à partir de 17h00 à la Villa Noël (6 rue Emile Zola\, Bucarest). Y participeront : Flavius-Antoniu BAIAS\, Elena PACEA\, Radu-Alexandru RIZOIU et Armand GOȘU. \nLes présentations et les discussions auront lieu en roumain. \nLa traduction en roumain du texte original de l’édition de 1912 (rédigée en français) est le fruit d’une collaboration entre les professeurs et les étudiants des Facultés de droit de l’Université de Bucarest et de l’Université d’Etat de Moldavie. \nCet ouvrage illustre la première ébauche d’une législation moderne dans l’espace juridique roumain\, rédigée entre 1822 et 1825\, presque exclusivement par Petru Manega\, juriste roumain dont on dit aussi qu’il est le premier docteur en droit roumain\, titre qu’il a obtenu à la célèbre Faculté de droit de l’Université de la Sorbonne à Paris. \nL’ouvrage a été publié chez les éditions Hamangiu.
URL:https://villanoel.unibuc.ro/event/presentation-de-livre-projet-de-code-civil-pour-la-bessarabie/
LOCATION:CEREFREA
ATTACH;FMTTYPE=image/jpeg:https://villanoel.unibuc.ro/wp-content/uploads/2024/05/Afis-Prezentare-carte-Cod-Civil-Basarabia-e1715243129225.jpg
END:VEVENT
BEGIN:VEVENT
DTSTART;TZID=Europe/Bucharest:20240515T180000
DTEND;TZID=Europe/Bucharest:20240515T200000
DTSTAMP:20260422T152535
CREATED:20240509T084232Z
LAST-MODIFIED:20240509T084232Z
UID:5293-1715796000-1715803200@villanoel.unibuc.ro
SUMMARY:Conférence "Plaidoyer pour une diplomatie consulaire. Evolution historique et contemporanéité”
DESCRIPTION:L’Institut d’Etudes Africaines\, en partenariat avec le CEREFREA Villa Noël\, organise le mercredi 15 mai 2024\, à partir de 18h00\, la conférence « Plaidoyer pour une diplomatie consulaire. Evolution historique et contemporanéité »\, donnée par M. Cosmin Victor Lotreanu\, diplomate au Ministère des Affaires étrangères. L’événement s’inscrit dans le cadre de la collaboration entre l’Université de Bucarest\, à travers l’Institut d’Etudes Africaines\, et le Ministère des Affaires étrangères. \nDans un monde en transformation\, parsemé de multiples défis\, la diplomatie consulaire est en continuelle refonte et redéfinition. Depuis l’ambiguïté du rôle du Consul dans les siècles passés\, quand ses compétences étaient en grande mesure séparées des attributs de la diplomatie classique\, jusqu’à la réalité de nos jours où le portefeuille est à la fois politique\, culturel\, économique et juridique\, un plaidoyer pour la diplomatie consulaire ne peut être que bienvenu. Passé\, présent et\, pourquoi pas\, avenir\, dans une conférence donnée par M. Cosmin Victor Lotreanu\, diplomate et\, comment autrement ?\, consul général durant plusieurs années. \nLa conférence et les discussions auront lieu en roumain.
URL:https://villanoel.unibuc.ro/event/conference-plaidoyer-pour-une-diplomatie-consulaire-evolution-historique-et-contemporaneite/
LOCATION:CEREFREA
CATEGORIES:Conférence
ATTACH;FMTTYPE=image/jpeg:https://villanoel.unibuc.ro/wp-content/uploads/2024/05/Conferinta-Cosmin-Lotreanu-e1715244079489.jpg
END:VEVENT
BEGIN:VEVENT
DTSTART;TZID=Europe/Bucharest:20240528T160000
DTEND;TZID=Europe/Bucharest:20240529T200000
DTSTAMP:20260422T152535
CREATED:20240527T124358Z
LAST-MODIFIED:20240527T124519Z
UID:5298-1716912000-1717012800@villanoel.unibuc.ro
SUMMARY:Cours « L’anthropologie globale comme programme de recherche. Esquisse d’une théorie comparée des globalisations intercynégétiques\, intertribales\, impériales et capitalistes » – Laurent Berger (EHESS)
DESCRIPTION:L’Ecole doctorale francophone en sciences sociales (EDFSS) du CEREFREA Villa Noël organise\, le 28 mai à partir de 16h00 et le 29 mai 2024 à partir de 17h00\, à la Villa Noël\,  le cours « L’anthropologie globale comme programme de recherche. Esquisse d’une théorie comparée des globalisations intercynégétiques\, intertribales\, impériales et capitalistes » donné par Laurent Berger (EHESS). \nPartenaires : EDFSS\, CEREFREA\, EHESS
URL:https://villanoel.unibuc.ro/event/cours-lanthropologie-globale-comme-programme-de-recherche-esquisse-dune-theorie-comparee-des-globalisations-intercynegetiques-intertribales-imperiales-et-capitalistes/
LOCATION:CEREFREA
CATEGORIES:Cours
ATTACH;FMTTYPE=image/jpeg:https://villanoel.unibuc.ro/wp-content/uploads/2024/05/IMG-20240527-WA0001-e1716813666234.jpg
END:VEVENT
END:VCALENDAR