BEGIN:VCALENDAR
VERSION:2.0
PRODID:-//Villa Noël - ECPv6.15.20//NONSGML v1.0//EN
CALSCALE:GREGORIAN
METHOD:PUBLISH
X-WR-CALNAME:Villa Noël
X-ORIGINAL-URL:https://villanoel.unibuc.ro
X-WR-CALDESC:Evenimente pentru Villa Noël
REFRESH-INTERVAL;VALUE=DURATION:PT1H
X-Robots-Tag:noindex
X-PUBLISHED-TTL:PT1H
BEGIN:VTIMEZONE
TZID:Europe/Bucharest
BEGIN:DAYLIGHT
TZOFFSETFROM:+0200
TZOFFSETTO:+0300
TZNAME:EEST
DTSTART:20230326T010000
END:DAYLIGHT
BEGIN:STANDARD
TZOFFSETFROM:+0300
TZOFFSETTO:+0200
TZNAME:EET
DTSTART:20231029T010000
END:STANDARD
BEGIN:DAYLIGHT
TZOFFSETFROM:+0200
TZOFFSETTO:+0300
TZNAME:EEST
DTSTART:20240331T010000
END:DAYLIGHT
BEGIN:STANDARD
TZOFFSETFROM:+0300
TZOFFSETTO:+0200
TZNAME:EET
DTSTART:20241027T010000
END:STANDARD
BEGIN:DAYLIGHT
TZOFFSETFROM:+0200
TZOFFSETTO:+0300
TZNAME:EEST
DTSTART:20250330T010000
END:DAYLIGHT
BEGIN:STANDARD
TZOFFSETFROM:+0300
TZOFFSETTO:+0200
TZNAME:EET
DTSTART:20251026T010000
END:STANDARD
END:VTIMEZONE
BEGIN:VEVENT
DTSTART;TZID=Europe/Bucharest:20240206T180000
DTEND;TZID=Europe/Bucharest:20240206T200000
DTSTAMP:20260421T214503
CREATED:20240205T053551Z
LAST-MODIFIED:20240223T075338Z
UID:5183-1707242400-1707249600@villanoel.unibuc.ro
SUMMARY:Conférence inaugurale EDFSS\, Florin Țurcanu (UB)
DESCRIPTION:L’Ecole doctorale francophone en sciences sociales (EDFSS) du CEREFREA Villa Noël organise en ligne\, le 6 février 2024\, à partir de 18h00\, la conférence inaugurale de son programme 2024. \nLa conférence sera donnée par le Pr Florin Țurcanu (Université de Bucarest)\, directeur de l’EDFSS. \nPartenaires : EDFSS\, CEREFREA.
URL:https://villanoel.unibuc.ro/event/conference-inaugurale-edfss-florin-turcanu-ub/
CATEGORIES:Conférence
ATTACH;FMTTYPE=image/jpeg:https://villanoel.unibuc.ro/wp-content/uploads/2022/02/logo_edfss-e1651916437717.jpg
END:VEVENT
END:VCALENDAR