BEGIN:VCALENDAR
VERSION:2.0
PRODID:-//Villa Noël - ECPv6.15.20//NONSGML v1.0//EN
CALSCALE:GREGORIAN
METHOD:PUBLISH
X-ORIGINAL-URL:https://villanoel.unibuc.ro
X-WR-CALDESC:Evenimente pentru Villa Noël
REFRESH-INTERVAL;VALUE=DURATION:PT1H
X-Robots-Tag:noindex
X-PUBLISHED-TTL:PT1H
BEGIN:VTIMEZONE
TZID:Europe/Bucharest
BEGIN:DAYLIGHT
TZOFFSETFROM:+0200
TZOFFSETTO:+0300
TZNAME:EEST
DTSTART:20220327T010000
END:DAYLIGHT
BEGIN:STANDARD
TZOFFSETFROM:+0300
TZOFFSETTO:+0200
TZNAME:EET
DTSTART:20221030T010000
END:STANDARD
BEGIN:DAYLIGHT
TZOFFSETFROM:+0200
TZOFFSETTO:+0300
TZNAME:EEST
DTSTART:20230326T010000
END:DAYLIGHT
BEGIN:STANDARD
TZOFFSETFROM:+0300
TZOFFSETTO:+0200
TZNAME:EET
DTSTART:20231029T010000
END:STANDARD
BEGIN:DAYLIGHT
TZOFFSETFROM:+0200
TZOFFSETTO:+0300
TZNAME:EEST
DTSTART:20240331T010000
END:DAYLIGHT
BEGIN:STANDARD
TZOFFSETFROM:+0300
TZOFFSETTO:+0200
TZNAME:EET
DTSTART:20241027T010000
END:STANDARD
END:VTIMEZONE
BEGIN:VEVENT
DTSTART;TZID=Europe/Bucharest:20230131T170000
DTEND;TZID=Europe/Bucharest:20230131T200000
DTSTAMP:20260423T014828
CREATED:20230128T102737Z
LAST-MODIFIED:20230131T122010Z
UID:4974-1675184400-1675195200@villanoel.unibuc.ro
SUMMARY:Conférence inaugurale « Les historiens et la guerre en Ukraine »\, Florin Țurcanu (UB)
DESCRIPTION:L’Ecole doctorale francophone en sciences sociales (EDFSS) du CEREFREA Villa Noël organise en ligne\, le 31 janvier 2023\, à partir de 17h00\, la conférence inaugurale de son programme 2023. \nLa conférence sera donnée par le Pr Florin Țurcanu (Université de Bucarest)\, directeur de l’EDFSS\, et porte comme titre « Les historiens et la guerre en Ukraine ». \nPartenaires : EDFSS\, CEREFREA.
URL:https://villanoel.unibuc.ro/event/conference-inaugurale-les-historiens-et-la-guerre-en-ukraine-florin-turcanu-ub/
CATEGORIES:Conférence
ATTACH;FMTTYPE=image/jpeg:https://villanoel.unibuc.ro/wp-content/uploads/2022/02/logo_edfss-e1651916437717.jpg
END:VEVENT
END:VCALENDAR