BEGIN:VCALENDAR
VERSION:2.0
PRODID:-//Villa Noël - ECPv6.15.20//NONSGML v1.0//EN
CALSCALE:GREGORIAN
METHOD:PUBLISH
X-WR-CALNAME:Villa Noël
X-ORIGINAL-URL:https://villanoel.unibuc.ro
X-WR-CALDESC:Evenimente pentru Villa Noël
REFRESH-INTERVAL;VALUE=DURATION:PT1H
X-Robots-Tag:noindex
X-PUBLISHED-TTL:PT1H
BEGIN:VTIMEZONE
TZID:Europe/Bucharest
BEGIN:DAYLIGHT
TZOFFSETFROM:+0200
TZOFFSETTO:+0300
TZNAME:EEST
DTSTART:20220327T010000
END:DAYLIGHT
BEGIN:STANDARD
TZOFFSETFROM:+0300
TZOFFSETTO:+0200
TZNAME:EET
DTSTART:20221030T010000
END:STANDARD
BEGIN:DAYLIGHT
TZOFFSETFROM:+0200
TZOFFSETTO:+0300
TZNAME:EEST
DTSTART:20230326T010000
END:DAYLIGHT
BEGIN:STANDARD
TZOFFSETFROM:+0300
TZOFFSETTO:+0200
TZNAME:EET
DTSTART:20231029T010000
END:STANDARD
BEGIN:DAYLIGHT
TZOFFSETFROM:+0200
TZOFFSETTO:+0300
TZNAME:EEST
DTSTART:20240331T010000
END:DAYLIGHT
BEGIN:STANDARD
TZOFFSETFROM:+0300
TZOFFSETTO:+0200
TZNAME:EET
DTSTART:20241027T010000
END:STANDARD
END:VTIMEZONE
BEGIN:VEVENT
DTSTART;TZID=Europe/Bucharest:20230125T160000
DTEND;TZID=Europe/Bucharest:20230125T173000
DTSTAMP:20260423T031741
CREATED:20230125T083359Z
LAST-MODIFIED:20230125T083604Z
UID:4970-1674662400-1674667800@villanoel.unibuc.ro
SUMMARY:Conférence de Marc Semo autour de son livre « Souvenirs merveilleux d’un Ambassadeur des Golans »
DESCRIPTION:L’Institut français de Roumanie\, en partenariat avec le CEREFREA Villa Noël de l’Université de Bucarest\, organise\, le mercredi\, 25 janvier\, de 16h00 à 17h30\, la conférence donnée par Marc Semo (grand reporter) autour de son livre « Souvenirs merveilleux d’un Ambassadeur des Golans ». La conférence sera modérée par le Pr Florin Turcanu\, directeur du CEREFREA. \n  \nLe grand reporter Marc Semo présentera le parcours\, l’histoire et les mémoires d’Alexandre Paléologue\, ancien Ambassadeur de Roumanie à Paris (nommé le 31 décembre 1989). \nLa conférence aura lieu à la Villa Noël (6\, rue Emile Zola). \nLe nombre de places est limité\, les inscriptions son ouvertes à travers le formulaire : https://forms.gle/zgzkx6nqAfdWGjWY7 \n 
URL:https://villanoel.unibuc.ro/event/conference-de-marc-semo-autour-de-son-livre-souvenirs-merveilleux-dun-ambassadeur-des-golans/
LOCATION:CEREFREA
CATEGORIES:Conférence
ATTACH;FMTTYPE=image/jpeg:https://villanoel.unibuc.ro/wp-content/uploads/2023/01/Conference-Semo-e1674635724348.jpg
END:VEVENT
END:VCALENDAR