BEGIN:VCALENDAR
VERSION:2.0
PRODID:-//Villa Noël - ECPv6.15.20//NONSGML v1.0//EN
CALSCALE:GREGORIAN
METHOD:PUBLISH
X-WR-CALNAME:Villa Noël
X-ORIGINAL-URL:https://villanoel.unibuc.ro
X-WR-CALDESC:Evenimente pentru Villa Noël
REFRESH-INTERVAL;VALUE=DURATION:PT1H
X-Robots-Tag:noindex
X-PUBLISHED-TTL:PT1H
BEGIN:VTIMEZONE
TZID:Europe/Bucharest
BEGIN:DAYLIGHT
TZOFFSETFROM:+0200
TZOFFSETTO:+0300
TZNAME:EEST
DTSTART:20220327T010000
END:DAYLIGHT
BEGIN:STANDARD
TZOFFSETFROM:+0300
TZOFFSETTO:+0200
TZNAME:EET
DTSTART:20221030T010000
END:STANDARD
BEGIN:DAYLIGHT
TZOFFSETFROM:+0200
TZOFFSETTO:+0300
TZNAME:EEST
DTSTART:20230326T010000
END:DAYLIGHT
BEGIN:STANDARD
TZOFFSETFROM:+0300
TZOFFSETTO:+0200
TZNAME:EET
DTSTART:20231029T010000
END:STANDARD
BEGIN:DAYLIGHT
TZOFFSETFROM:+0200
TZOFFSETTO:+0300
TZNAME:EEST
DTSTART:20240331T010000
END:DAYLIGHT
BEGIN:STANDARD
TZOFFSETFROM:+0300
TZOFFSETTO:+0200
TZNAME:EET
DTSTART:20241027T010000
END:STANDARD
END:VTIMEZONE
BEGIN:VEVENT
DTSTART;TZID=Europe/Bucharest:20230117T183000
DTEND;TZID=Europe/Bucharest:20230117T200000
DTSTAMP:20260423T031626
CREATED:20230110T075735Z
LAST-MODIFIED:20230111T055029Z
UID:4956-1673980200-1673985600@villanoel.unibuc.ro
SUMMARY:Conférence “La guerre d’Ukraine\, vue depuis la Grande Guerre”\, Stéphane Audoin-Rouzeau (EHESS Paris)
DESCRIPTION:Le CEREFREA Villa Noël de l’Université de Bucarest vous invite\, le mardi\, 17 janvier 2023\, à partir de 18h30 (heure de Bucarest)\, à la conférence La guerre d’Ukraine\, vue depuis la Grande Guerre\, donnée par le Pr Stéphane Audoin-Rouzeau (EHESS Paris). \nLa guerre d’Ukraine\, en se prolongeant\, peut paraître étrangement familière à un historien de la Grande Guerre. A côtés d’aspects très neufs\, beaucoup d’autres semblent rappeler certaines caractéristiques du conflit de 1914-1918 : erreur d’appréciation sur son déclenchement\, modalités des affrontements\, atrocités d’invasion\, guerre de positions\, temporalité du conflit lui-même\, etc. La conférence tentera de proposer une réflexion sur cette dimension étrangement régressive de la guerre d’Ukraine\, généralement peu soulignée. \nL’événement aura lieu en format hybride\, à la Villa Noël (6\, Rue Émile Zola) et sur la plateforme Zoom. \nAfin de garantir les meilleures conditions de sécurité pour son déroulement\, nous vous prions de vous inscrire d’abord à travers le formulaire suivant : https://forms.gle/7TUoNcbbjLzMNPpo6. Après inscription\, le lien de connexion vous sera envoyé le jour de la manifestation.
URL:https://villanoel.unibuc.ro/event/conference-la-guerre-dukraine-vue-depuis-la-grande-guerre/
CATEGORIES:Conférence
ATTACH;FMTTYPE=image/jpeg:https://villanoel.unibuc.ro/wp-content/uploads/2023/01/Conference-Audoin-Rouzeau-petit-2-e1673416205833.jpg
END:VEVENT
END:VCALENDAR