BEGIN:VCALENDAR
VERSION:2.0
PRODID:-//Villa Noël - ECPv6.15.20//NONSGML v1.0//EN
CALSCALE:GREGORIAN
METHOD:PUBLISH
X-ORIGINAL-URL:https://villanoel.unibuc.ro
X-WR-CALDESC:Evenimente pentru Villa Noël
REFRESH-INTERVAL;VALUE=DURATION:PT1H
X-Robots-Tag:noindex
X-PUBLISHED-TTL:PT1H
BEGIN:VTIMEZONE
TZID:Europe/Bucharest
BEGIN:DAYLIGHT
TZOFFSETFROM:+0200
TZOFFSETTO:+0300
TZNAME:EEST
DTSTART:20210328T010000
END:DAYLIGHT
BEGIN:STANDARD
TZOFFSETFROM:+0300
TZOFFSETTO:+0200
TZNAME:EET
DTSTART:20211031T010000
END:STANDARD
BEGIN:DAYLIGHT
TZOFFSETFROM:+0200
TZOFFSETTO:+0300
TZNAME:EEST
DTSTART:20220327T010000
END:DAYLIGHT
BEGIN:STANDARD
TZOFFSETFROM:+0300
TZOFFSETTO:+0200
TZNAME:EET
DTSTART:20221030T010000
END:STANDARD
BEGIN:DAYLIGHT
TZOFFSETFROM:+0200
TZOFFSETTO:+0300
TZNAME:EEST
DTSTART:20230326T010000
END:DAYLIGHT
BEGIN:STANDARD
TZOFFSETFROM:+0300
TZOFFSETTO:+0200
TZNAME:EET
DTSTART:20231029T010000
END:STANDARD
END:VTIMEZONE
BEGIN:VEVENT
DTSTART;TZID=Europe/Bucharest:20221209T160000
DTEND;TZID=Europe/Bucharest:20221209T200000
DTSTAMP:20260423T045205
CREATED:20221206T132107Z
LAST-MODIFIED:20221206T164113Z
UID:4936-1670601600-1670616000@villanoel.unibuc.ro
SUMMARY:Conférence-débat « Pétain et Antonescu. Un regard comparatif »
DESCRIPTION:Le Centre Régional Francophone d’Études Avancées en Sciences Sociales (CEREFREA Villa Noël) et l’Institut Français de Roumaine (IFRo) organisent\, le vendredi 9 décembre 2022\, à partir de 16h00\, la conférence-débat « Pétain et Antonescu. Un regard comparatif ». \nDe nombreux points communs rapprochent le maréchal Pétain et le général (puis maréchal) Antonescu en tant que dirigeants de leurs pays pendant les années 1940-1944. Philippe Collin\, auteur du livre Le fantôme de Philippe Pétain (Flammarion 2022) et Florin Țurcanu (Université de Bucarest) se pencheront sur les ressemblances et les différences entre les deux personnalités et leurs régimes respectifs. \nL’événement aura lieu en format hybride\, à la Villa Noël (6\, Rue Emile Zola) et sur la plateforme Zoom. Afin de garantir les meilleures conditions de sécurité pour son déroulement\, nous vous prions de vous inscrire d’abord à travers le formulaire suivant : https://forms.gle/PA2dqaxuCdKfGJta6.\nAprès inscription\, le lien de connexion vous sera envoyé le jour de la manifestation. \n 
URL:https://villanoel.unibuc.ro/event/conference-debat-petain-et-antonescu-un-regard-comparatif/
CATEGORIES:Conférence,Débat
ATTACH;FMTTYPE=image/jpeg:https://villanoel.unibuc.ro/wp-content/uploads/2022/12/Conference-debat-9-decembre-2022-1-e1670344857371.jpg
END:VEVENT
END:VCALENDAR