BEGIN:VCALENDAR
VERSION:2.0
PRODID:-//Villa Noël - ECPv6.15.20//NONSGML v1.0//EN
CALSCALE:GREGORIAN
METHOD:PUBLISH
X-WR-CALNAME:Villa Noël
X-ORIGINAL-URL:https://villanoel.unibuc.ro
X-WR-CALDESC:Evenimente pentru Villa Noël
REFRESH-INTERVAL;VALUE=DURATION:PT1H
X-Robots-Tag:noindex
X-PUBLISHED-TTL:PT1H
BEGIN:VTIMEZONE
TZID:Europe/Bucharest
BEGIN:DAYLIGHT
TZOFFSETFROM:+0200
TZOFFSETTO:+0300
TZNAME:EEST
DTSTART:20210328T010000
END:DAYLIGHT
BEGIN:STANDARD
TZOFFSETFROM:+0300
TZOFFSETTO:+0200
TZNAME:EET
DTSTART:20211031T010000
END:STANDARD
BEGIN:DAYLIGHT
TZOFFSETFROM:+0200
TZOFFSETTO:+0300
TZNAME:EEST
DTSTART:20220327T010000
END:DAYLIGHT
BEGIN:STANDARD
TZOFFSETFROM:+0300
TZOFFSETTO:+0200
TZNAME:EET
DTSTART:20221030T010000
END:STANDARD
BEGIN:DAYLIGHT
TZOFFSETFROM:+0200
TZOFFSETTO:+0300
TZNAME:EEST
DTSTART:20230326T010000
END:DAYLIGHT
BEGIN:STANDARD
TZOFFSETFROM:+0300
TZOFFSETTO:+0200
TZNAME:EET
DTSTART:20231029T010000
END:STANDARD
END:VTIMEZONE
BEGIN:VEVENT
DTSTART;TZID=Europe/Bucharest:20220509T170000
DTEND;TZID=Europe/Bucharest:20220509T190000
DTSTAMP:20260426T033307
CREATED:20220505T070216Z
LAST-MODIFIED:20220507T092749Z
UID:4537-1652115600-1652122800@villanoel.unibuc.ro
SUMMARY:Conférence de Vincent Duclert "Que peut la connaissance face aux génocides ? Le cas de la France et du génocide des Tutsi"
DESCRIPTION:Le CEREFREA Villa Noël de l’Université de Bucarest vous invite\, le lundi\, 9 mai 2022\, à partir de 17h00 (heure de Bucarest)\, à la conférence Que peut la connaissance face aux génocides ? Le cas de la France et du génocide des Tutsi\, donnée par le Pr Vincent Duclert. La conférence sera transmise sur la page Facebook du CEREFREA. \nVincent Duclert est historien\, professeur à Sciences Po Paris et chercheur à l’EHESS. Il a présidé la Mission d’étude en France sur la recherche et l’enseignement des génocides et des crimes de masse dont le rapport a été remis en décembre 2018. Le 5 avril 2019\, il a été nommé par le président de la République à la présidence de la Commission de recherche sur les archives françaises relatives au Rwanda et au génocide des Tutsi (1990-1994)\, dont le rapport de plus de 1000 pages a été remis en mars 2021. Bénéficiant d’une ample reconnaissance internationale\, le rapport de la Commission Duclert a marqué un tournant dans l’histoire de l’investigation et de la mémoire du génocide rwandais.
URL:https://villanoel.unibuc.ro/event/conference-de-vincent-duclert-que-peut-la-connaissance-face-aux-genocides-le-cas-de-la-france-et-du-genocide-des-tutsi/
LOCATION:CEREFREA
CATEGORIES:Conférence
ATTACH;FMTTYPE=image/jpeg:https://villanoel.unibuc.ro/wp-content/uploads/2022/05/Conference-Vincent-Duclert-1-e1651915423317.jpg
END:VEVENT
END:VCALENDAR