BEGIN:VCALENDAR
VERSION:2.0
PRODID:-//Villa Noël - ECPv6.15.20//NONSGML v1.0//EN
CALSCALE:GREGORIAN
METHOD:PUBLISH
X-ORIGINAL-URL:https://villanoel.unibuc.ro
X-WR-CALDESC:Evenimente pentru Villa Noël
REFRESH-INTERVAL;VALUE=DURATION:PT1H
X-Robots-Tag:noindex
X-PUBLISHED-TTL:PT1H
BEGIN:VTIMEZONE
TZID:Europe/Bucharest
BEGIN:DAYLIGHT
TZOFFSETFROM:+0200
TZOFFSETTO:+0300
TZNAME:EEST
DTSTART:20220327T010000
END:DAYLIGHT
BEGIN:STANDARD
TZOFFSETFROM:+0300
TZOFFSETTO:+0200
TZNAME:EET
DTSTART:20221030T010000
END:STANDARD
BEGIN:DAYLIGHT
TZOFFSETFROM:+0200
TZOFFSETTO:+0300
TZNAME:EEST
DTSTART:20230326T010000
END:DAYLIGHT
BEGIN:STANDARD
TZOFFSETFROM:+0300
TZOFFSETTO:+0200
TZNAME:EET
DTSTART:20231029T010000
END:STANDARD
BEGIN:DAYLIGHT
TZOFFSETFROM:+0200
TZOFFSETTO:+0300
TZNAME:EEST
DTSTART:20240331T010000
END:DAYLIGHT
BEGIN:STANDARD
TZOFFSETFROM:+0300
TZOFFSETTO:+0200
TZNAME:EET
DTSTART:20241027T010000
END:STANDARD
END:VTIMEZONE
BEGIN:VEVENT
DTSTART;TZID=Europe/Bucharest:20231025T180000
DTEND;TZID=Europe/Bucharest:20231025T200000
DTSTAMP:20260422T043555
CREATED:20231019T041644Z
LAST-MODIFIED:20231020T124030Z
UID:5133-1698256800-1698264000@villanoel.unibuc.ro
SUMMARY:Conférence-débat « Mondialisation de la communication et diversité culturelle : une francophonie sous influences »
DESCRIPTION:Le Laboratoire SIC.Lab Méditerranée (Université Côte d’Azur)\, la Faculté de Journalisme et des Sciences de la Communication (FJSC\, Université de Bucarest) et le Département des Sciences de la Communication et des Relations publiques (Faculté de Philosophie et des Sciences sociales et politiques\, Université Alexandru Ioan Cuza de Iasi) en partenariat avec le Centre Régional Francophone d’Études Avancées en Sciences Sociales (CEREFREA Villa Noël) et l’Institut Français de Bucarest (IFR)\, organisent le 25 octobre\, à 18h00\, la conférence-débat « Mondialisation de la communication et diversité culturelle : une francophonie sous influences » autour des deux ouvrages collectifs issus du XXVème  Colloque franco-roumain en sciences de la communication\, qui s’est tenu à Iasi\, à l’Université Alexandru Ioan Cuza en mai 2022. \nLa conférence-débat aura lieu en présence de quatre coordinateurs de ces deux ouvrages : Nicolas Pélissier (co-fondateur du colloque et directeur du laboratoire SIC.Lab Méditerranée\, Université Côte d’Azur)\, Vincent Lambert (artiste-chercheur au laboratoire SIC.Lab Méditerranée)\, Camelia Beciu (FJSC\, Université de Bucarest et Institut de Sociologie de l’Académie Roumaine) et Stefania Bejan (FPSSP\, Université Alexandru Ioan Cuza de Iasi). Un invité d’honneur les rejoindra\, le Pr Ioan Dragan (Université de Bucarest)\, fondateur en 1993 du colloque franco-roumain en sciences de la communication. \nLes deux modérateurs\, Olivier Arifon (Université Catholique de Lille\, chercheur-invité à l’Université de Bucarest) et Nicolae Perpelea (Institut de Sociologie de l’Académie Roumaine)\, débattront avec les intervenants et les participants à l’événement du vaste sujet de la reconfiguration des cultures\, prises dans le jeu de la globalisation et de l’universalisation des technologies de la communication. \nSe dirige-t-on vers une mondialisation de la culture imposée par l’essor des moyens de communication et les pays les plus riches\, principalement les États-Unis et l’Europe ? Notre époque hypermoderne est-elle plutôt caractérisée par l’atomisation\, la fragmentation des grands ensembles culturels ? Faut-il conclure à l’épuisement de la multiplicité des identités locales issues de millénaires de grandes difficultés de communication et d’échange entre les sociétés\, où allons-nous\, au contraire\, vers une diversification des cultures et des formes d’expression\, soutenue par un processus fertile de métissage et des formes de ressaisissement des identités\, voire des réactions communautaristes ? \nCe ne sont que quelques-unes des questions qui seront posées et auxquelles nous chercherons à répondre avec nos invités. \nNous vous attendons aussi nombreux que possible à notre événement accueilli dans l’Atrium de l’Institut Français de Bucarest (77\, Bd. Dacia).
URL:https://villanoel.unibuc.ro/event/conference-debat-mondialisation-de-la-communication-et-diversite-culturelle-une-francophonie-sous-influences/
CATEGORIES:Conférence
ATTACH;FMTTYPE=image/png:https://villanoel.unibuc.ro/wp-content/uploads/2023/10/FIN-e1697801595839.png
END:VEVENT
END:VCALENDAR