BEGIN:VCALENDAR
VERSION:2.0
PRODID:-//Villa Noël - ECPv6.15.20//NONSGML v1.0//EN
CALSCALE:GREGORIAN
METHOD:PUBLISH
X-ORIGINAL-URL:https://villanoel.unibuc.ro
X-WR-CALDESC:Evenimente pentru Villa Noël
REFRESH-INTERVAL;VALUE=DURATION:PT1H
X-Robots-Tag:noindex
X-PUBLISHED-TTL:PT1H
BEGIN:VTIMEZONE
TZID:Europe/Bucharest
BEGIN:DAYLIGHT
TZOFFSETFROM:+0200
TZOFFSETTO:+0300
TZNAME:EEST
DTSTART:20210328T010000
END:DAYLIGHT
BEGIN:STANDARD
TZOFFSETFROM:+0300
TZOFFSETTO:+0200
TZNAME:EET
DTSTART:20211031T010000
END:STANDARD
BEGIN:DAYLIGHT
TZOFFSETFROM:+0200
TZOFFSETTO:+0300
TZNAME:EEST
DTSTART:20220327T010000
END:DAYLIGHT
BEGIN:STANDARD
TZOFFSETFROM:+0300
TZOFFSETTO:+0200
TZNAME:EET
DTSTART:20221030T010000
END:STANDARD
BEGIN:DAYLIGHT
TZOFFSETFROM:+0200
TZOFFSETTO:+0300
TZNAME:EEST
DTSTART:20230326T010000
END:DAYLIGHT
BEGIN:STANDARD
TZOFFSETFROM:+0300
TZOFFSETTO:+0200
TZNAME:EET
DTSTART:20231029T010000
END:STANDARD
END:VTIMEZONE
BEGIN:VEVENT
DTSTART;TZID=Europe/Bucharest:20221103T143000
DTEND;TZID=Europe/Bucharest:20221103T183000
DTSTAMP:20260425T133224
CREATED:20221031T141636Z
LAST-MODIFIED:20221101T125245Z
UID:4861-1667485800-1667500200@villanoel.unibuc.ro
SUMMARY:Conférence « (En)JEUX contemporains. Savoirs historiques vs histoire fictionnelle »
DESCRIPTION:Le Centre Régional Francophone d’Études Avancées en Sciences Sociales (CEREFREA Villa Noël) et l’Institut Français de Roumaine (IFRo) organisent\, le jeudi 3 novembre 2022\, de 14h30 à 16h30\, à la Villa Noël (6\, Rue Emile Zola)\, la conférence « (En)JEUX contemporains. Savoirs historiques vs histoire fictionnelle » qui sera tenue par Hugo Orain de l’Université Rennes 2 et du Laboratoire des imaginaires.\nLa Révolution française est vivante. Créateurs\, auteurs et concepteurs conçoivent chaque année des représentations fictionnelles de l’histoire\, nourrissant des mythologies contemporaines et un imaginaire social. En retraçant les liens qui unissent les images et la mise en scène du passé\, l’objectif sera de présenter des outils et des méthodes pour analyser par le prisme de la discipline historique une œuvre fictionnelle\, du film au jeu vidéo.
URL:https://villanoel.unibuc.ro/event/conference-enjeux-contemporains-savoirs-historiques-vs-histoire-fictionnelle/
CATEGORIES:Conférence
ATTACH;FMTTYPE=image/png:https://villanoel.unibuc.ro/wp-content/uploads/2022/10/Affiche-atelier-Hugo-Orain-petit-e1667225723434.png
END:VEVENT
BEGIN:VEVENT
DTSTART;TZID=Europe/Bucharest:20221104T140000
DTEND;TZID=Europe/Bucharest:20221104T160000
DTSTAMP:20260425T133224
CREATED:20221101T080121Z
LAST-MODIFIED:20221101T105328Z
UID:4876-1667570400-1667577600@villanoel.unibuc.ro
SUMMARY:Conférence « L’État multi-ethnique et l’identité nationale. L’expérience serbe au XXe siècle »\, Stanislav Sretenović
DESCRIPTION:Le Dr Stanislav Sretenović\, Directeur de recherches à l’Institut d’Histoire contemporaine de Belgrade et enseignant à la Faculté de Sciences Politiques de Belgrade\, donnera une conférence pour présenter le projet « L’État multi-ethnique et l’identité nationale. L’expérience serbe au XXe siècle ». L’événement aura lieu le vendredi 4 novembre 2022\, à partir de 14h00 (heure de Bucarest)\, au Centre Régional Francophone d’Études Avancées en Sciences Sociales (CEREFREA Villa Noël) de l’Université de Bucarest. Le projet est financé par le Fonds pour la Science de la République de Serbie par l’intermédiaire du programme « Idées ». \nL’événement aura lieu en format hybride\, à la Villa Noël (6\, Rue Émile Zola) et sur la plateforme Zoom. \n* The Multiethnic State and National Identities: the Serbian Experience in the 20th Century- SERBIE20. Истраживање је реализовано уз подршку Фонда за науку Републике Србије\, Програм ИДЕЈЕ. Пројекат бр. 7731836.
URL:https://villanoel.unibuc.ro/event/presentation-projet-recherche-stanislav-sretenovic/
CATEGORIES:Conférence
ATTACH;FMTTYPE=image/jpeg:https://villanoel.unibuc.ro/wp-content/uploads/2022/11/Afis-Stanislav-Sretenovic-petit-e1667296897410.jpg
END:VEVENT
END:VCALENDAR